BEGIN:VCALENDAR
VERSION:2.0
PRODID:-//:: International Rally of Whangarei :: - ECPv6.15.11//NONSGML v1.0//EN
CALSCALE:GREGORIAN
METHOD:PUBLISH
X-WR-CALNAME::: International Rally of Whangarei ::
X-ORIGINAL-URL:https://www.rallywhangarei.co.nz
X-WR-CALDESC:Events for :: International Rally of Whangarei ::
REFRESH-INTERVAL;VALUE=DURATION:PT1H
X-Robots-Tag:noindex
X-PUBLISHED-TTL:PT1H
BEGIN:VTIMEZONE
TZID:UTC
BEGIN:STANDARD
TZOFFSETFROM:+0000
TZOFFSETTO:+0000
TZNAME:UTC
DTSTART:20190101T000000
END:STANDARD
END:VTIMEZONE
BEGIN:VEVENT
DTSTART;VALUE=DATE:20200508
DTEND;VALUE=DATE:20200511
DTSTAMP:20260424T120033
CREATED:20141008T030822Z
LAST-MODIFIED:20200312T031120Z
UID:99-1588896000-1589155199@www.rallywhangarei.co.nz
SUMMARY:National Rally of Whangarei
DESCRIPTION:[vc_row][vc_column][vc_column_text]The International Rally of Whangarei incorporates the second round of the MotorSport New Zealand-sanctioned New Zealand Rally Championship (NZRC) where local teams can compete internally for NZRC points. Run as a subsidiary event it includes clubmans competitors\, to incorporate those cars not compliant with the APRC international regulations. The National event also gives competitors with lower specification or older cars a way to compete in their own overall and class battles and be part of an international event without the cost of full international competition. \nThe event commences with an opening ceremony commencing on Friday with the following two days comprising over 270 km of competitive gravel stages in the Whangarei and Far North districts to the north of Whangarei. \nThe International Rally of Whangarei is run by Rally of New Zealand. \nNATIONAL COMPETITOR DOCUMENTS\n\nSupplementary Regulations | DOWNLOAD\nEntry Form PLEASE NOTE ONLY APPLICABLE FOR CLUBMANS/CLASSICS/NZRC CAT 4 ENTRIES. APRC AND NZRC 1\, 2\, 3 & 5 ENTRANTS MUST FILL OUT THE INTERNATIONAL ENTRY FORM | DOWNLOAD\nRally Guide 1 | DOWNLOAD \n2020 Event Map – Leg 1 & Leg 2 |\nItinerary | DOWNLOAD \nTeam Contact Form | DOWNLOAD\n\n[/vc_column_text][/vc_column][/vc_row]
URL:https://www.rallywhangarei.co.nz/event/clubmans-rally-of-whangarei/
LOCATION:Semenoff Stadium\, Okara Park\, Whangarei\, 51 Okara Drive\, Whangarei\, New Zealand
CATEGORIES:Rally
ATTACH;FMTTYPE=image/jpeg:https://www.rallywhangarei.co.nz/wp-content/uploads/2014/09/Summerfield_RallyWhangarei17_CopyrightGeoffRidder_GR48905.jpg
ORGANIZER;CN="Rally New Zealand":MAILTO:info@rallynz.org.nz
END:VEVENT
END:VCALENDAR