BEGIN:VCALENDAR
VERSION:2.0
PRODID:-//:: International Rally of Whangarei :: - ECPv6.15.11//NONSGML v1.0//EN
CALSCALE:GREGORIAN
METHOD:PUBLISH
X-WR-CALNAME::: International Rally of Whangarei ::
X-ORIGINAL-URL:https://www.rallywhangarei.co.nz
X-WR-CALDESC:Events for :: International Rally of Whangarei ::
REFRESH-INTERVAL;VALUE=DURATION:PT1H
X-Robots-Tag:noindex
X-PUBLISHED-TTL:PT1H
BEGIN:VTIMEZONE
TZID:UTC
BEGIN:STANDARD
TZOFFSETFROM:+0000
TZOFFSETTO:+0000
TZNAME:UTC
DTSTART:20190101T000000
END:STANDARD
END:VTIMEZONE
BEGIN:VEVENT
DTSTART;VALUE=DATE:20200508
DTEND;VALUE=DATE:20200511
DTSTAMP:20260424T122339
CREATED:20141008T030246Z
LAST-MODIFIED:20210223T202156Z
UID:96-1588896000-1589155199@www.rallywhangarei.co.nz
SUMMARY:International Rally of Whangarei
DESCRIPTION:[vc_row][vc_column][vc_column_text]The International Rally of Whangarei brought to you by Mark Cromie Motor Group will allow for qualification for the 2021 FIA Asia Pacific Rally Championship Final in Coffs Harbour (the top 3 registered competitors from Rally Otagao and the International Rally of Whangarei will qualify).  \nThe event is also the second round of the Brian Green Property Group New Zealand Rally Championship (NZRC) where local teams can compete internally for NZRC points and against international competitors for the overall event title. \nThe event commences with an opening ceremony commencing with the following two days comprising over 270 km of competitive gravel stages in the Far North and Whangarei districts to the north & south of Whangarei. \nThe International Rally of Whangarei brought to you by Mark Cromie Motor Group is run by Rally New Zealand. \nCOMPETITOR DOCUMENTS\n[/vc_column_text][/vc_column][/vc_row]
URL:https://www.rallywhangarei.co.nz/event/international-rally-of-whangarei/
LOCATION:Semenoff Stadium\, Okara Park\, Whangarei\, 51 Okara Drive\, Whangarei\, New Zealand
CATEGORIES:Rally
ATTACH;FMTTYPE=image/jpeg:https://www.rallywhangarei.co.nz/wp-content/uploads/2014/09/Gill_RallyWhangarei17_CopyrightGeoffRidder_GR14454.jpg
ORGANIZER;CN="Rally New Zealand":MAILTO:info@rallynz.org.nz
END:VEVENT
END:VCALENDAR